{
 "currentVersion": 10.91,
 "serviceDescription": "North McCamey to Bearkat NMBKT 6 inch resolution imagery from NV5 Geospatial. ",
 "name": "Imagery/NMBKT_JP2_SPC",
 "description": "North McCamey to Bearkat NMBKT 6 inch resolution imagery from NV5 Geospatial. ",
 "extent": {
  "xmin": 1681438.5001010597,
  "ymin": 1.0379551500023142E7,
  "xmax": 1943225.0001010597,
  "ymax": 1.0629710000023142E7,
  "spatialReference": {
   "wkid": 103160,
   "latestWkid": 6578
  }
 },
 "initialExtent": {
  "xmin": 1681438.5001010597,
  "ymin": 1.0379551500023142E7,
  "xmax": 1943225.0001010597,
  "ymax": 1.0629710000023142E7,
  "spatialReference": {
   "wkid": 103160,
   "latestWkid": 6578
  }
 },
 "fullExtent": {
  "xmin": 1681438.5001010597,
  "ymin": 1.0379551500023142E7,
  "xmax": 1943225.0001010597,
  "ymax": 1.0629710000023142E7,
  "spatialReference": {
   "wkid": 103160,
   "latestWkid": 6578
  }
 },
 "pixelSizeX": 0.5,
 "pixelSizeY": 0.5,
 "bandCount": 3,
 "pixelType": "U8",
 "minPixelSize": 0,
 "maxPixelSize": 0,
 "copyrightText": "LCRA, NV5",
 "serviceDataType": "esriImageServiceDataTypeRGB",
 "minValues": [],
 "maxValues": [],
 "meanValues": [],
 "stdvValues": [],
 "objectIdField": "",
 "fields": [],
 "capabilities": "Image,Metadata,Mensuration",
 "defaultMosaicMethod": "Center",
 "allowedMosaicMethods": "",
 "sortField": "",
 "sortValue": null,
 "sortAscending": true,
 "mosaicOperator": "First",
 "defaultCompressionQuality": 75,
 "defaultResamplingMethod": "Bilinear",
 "maxImageHeight": 4100,
 "maxImageWidth": 15000,
 "allowRasterFunction": true,
 "rasterFunctionInfos": [
  {
   "name": "None",
   "description": "",
   "help": ""
  }
 ],
 "rasterTypeInfos": [
  {
   "name": "Raster Dataset",
   "description": "Supports all ArcGIS Raster Datasets",
   "help": ""
  }
 ],
 "mensurationCapabilities": "Basic",
 "hasHistograms": false,
 "hasColormap": false,
 "hasRasterAttributeTable": false,
 "minScale": 0,
 "maxScale": 0,
 "exportTilesAllowed": false,
 "hasMultidimensions": false,
 "supportsStatistics": false,
 "supportsAdvancedQueries": false,
 "editFieldsInfo": null,
 "ownershipBasedAccessControlForRasters": null,
 "allowComputeTiePoints": false,
 "useStandardizedQueries": true,
 "advancedQueryCapabilities": {
  "useStandardizedQueries": true,
  "supportsStatistics": false,
  "supportsOrderBy": false,
  "supportsDistinct": false,
  "supportsPagination": false
 },
 "spatialReference": {
  "wkid": 103160,
  "latestWkid": 6578
 }
}
