{
 "currentVersion": 10.91,
 "serviceDescription": "1) Photography Dates: 11/27/2023\n 2) Photography Scale: 1:1200\n 3) Flying Height: 8380 feet AMT (Above Mean Terrain)\n 4) Raw Image Post Processed Resolution: .8 microns\n 5) Ortho TIFF Pixel Resolution: 0.5' (6 inch)\n 6) Ortho TIFF Format: GeoTiff, uncompressed 8 bit RGB data, no overviews\n 7) Number of Orthophotos: 80 with .tfw files\n 8) Ortho TIFF image sheets are edge matched with identical overlap inside the AOI.\n 9) Ortho TIFF void areas are black (255,255,255)\n10) JPEG2000 Image Compression: 12:1\n11) ECW Image Compression: 12:1\n12) Horizontal Datum: NAD83 2011 (epoch 2010) with project coordinates in Texas State Plane Central zone\n13) Photography: Color\n",
 "name": "Imagery/NMBK_Design",
 "description": "1) Photography Dates: 11/27/2023\n 2) Photography Scale: 1:1200\n 3) Flying Height: 8380 feet AMT (Above Mean Terrain)\n 4) Raw Image Post Processed Resolution: .8 microns\n 5) Ortho TIFF Pixel Resolution: 0.5' (6 inch)\n 6) Ortho TIFF Format: GeoTiff, uncompressed 8 bit RGB data, no overviews\n 7) Number of Orthophotos: 80 with .tfw files\n 8) Ortho TIFF image sheets are edge matched with identical overlap inside the AOI.\n 9) Ortho TIFF void areas are black (255,255,255)\n10) JPEG2000 Image Compression: 12:1\n11) ECW Image Compression: 12:1\n12) Horizontal Datum: NAD83 2011 (epoch 2010) with project coordinates in Texas State Plane Central zone\n13) Photography: Color\n",
 "extent": {
  "xmin": 1704285.4999420494,
  "ymin": 1.0385838499908732E7,
  "xmax": 1830234.9999420494,
  "ymax": 1.0511307999908732E7,
  "spatialReference": {
   "wkid": 103160,
   "latestWkid": 6578
  }
 },
 "initialExtent": {
  "xmin": 1704285.4999420494,
  "ymin": 1.0385838499908732E7,
  "xmax": 1830234.9999420494,
  "ymax": 1.0511307999908732E7,
  "spatialReference": {
   "wkid": 103160,
   "latestWkid": 6578
  }
 },
 "fullExtent": {
  "xmin": 1704285.4999420494,
  "ymin": 1.0385838499908732E7,
  "xmax": 1830234.9999420494,
  "ymax": 1.0511307999908732E7,
  "spatialReference": {
   "wkid": 103160,
   "latestWkid": 6578
  }
 },
 "pixelSizeX": 0.5,
 "pixelSizeY": 0.5,
 "bandCount": 4,
 "pixelType": "U8",
 "minPixelSize": 0,
 "maxPixelSize": 0,
 "copyrightText": "LCRA TSC, NV5",
 "serviceDataType": "esriImageServiceDataTypeGeneric",
 "minValues": [
  0,
  0,
  0,
  0
 ],
 "maxValues": [
  255,
  255,
  255,
  255
 ],
 "meanValues": [
  133.01046422582667,
  129.0284066847754,
  123.9924130050282,
  254.9100233606038
 ],
 "stdvValues": [
  45.22637227702918,
  41.431734411651895,
  39.04067810506354,
  4.035251328319368
 ],
 "objectIdField": "OBJECTID",
 "fields": [
  {
   "name": "OBJECTID",
   "type": "esriFieldTypeOID",
   "alias": "OBJECTID",
   "domain": null
  },
  {
   "name": "Shape",
   "type": "esriFieldTypeGeometry",
   "alias": "Shape",
   "domain": null
  },
  {
   "name": "Name",
   "type": "esriFieldTypeString",
   "alias": "Name",
   "domain": null,
   "length": 200
  },
  {
   "name": "MinPS",
   "type": "esriFieldTypeDouble",
   "alias": "MinPS",
   "domain": null
  },
  {
   "name": "MaxPS",
   "type": "esriFieldTypeDouble",
   "alias": "MaxPS",
   "domain": null
  },
  {
   "name": "LowPS",
   "type": "esriFieldTypeDouble",
   "alias": "LowPS",
   "domain": null
  },
  {
   "name": "HighPS",
   "type": "esriFieldTypeDouble",
   "alias": "HighPS",
   "domain": null
  },
  {
   "name": "Category",
   "type": "esriFieldTypeInteger",
   "alias": "Category",
   "domain": {
    "type": "codedValue",
    "name": "MosaicCatalogItemCategoryDomain",
    "description": "Catalog item categories.",
    "codedValues": [
     {
      "name": "Unknown",
      "code": 0
     },
     {
      "name": "Primary",
      "code": 1
     },
     {
      "name": "Overview",
      "code": 2
     },
     {
      "name": "Unprocessed Overview",
      "code": 3
     },
     {
      "name": "Partial Overview",
      "code": 4
     },
     {
      "name": "Inactive",
      "code": 5
     },
     {
      "name": "Uploaded",
      "code": 253
     },
     {
      "name": "Incomplete",
      "code": 254
     },
     {
      "name": "Custom",
      "code": 255
     }
    ],
    "mergePolicy": "esriMPTDefaultValue",
    "splitPolicy": "esriSPTDefaultValue"
   }
  },
  {
   "name": "Tag",
   "type": "esriFieldTypeString",
   "alias": "Tag",
   "domain": null,
   "length": 100
  },
  {
   "name": "GroupName",
   "type": "esriFieldTypeString",
   "alias": "GroupName",
   "domain": null,
   "length": 100
  },
  {
   "name": "ProductName",
   "type": "esriFieldTypeString",
   "alias": "ProductName",
   "domain": null,
   "length": 100
  },
  {
   "name": "CenterX",
   "type": "esriFieldTypeDouble",
   "alias": "CenterX",
   "domain": null
  },
  {
   "name": "CenterY",
   "type": "esriFieldTypeDouble",
   "alias": "CenterY",
   "domain": null
  },
  {
   "name": "ZOrder",
   "type": "esriFieldTypeInteger",
   "alias": "ZOrder",
   "domain": null
  },
  {
   "name": "Shape_Length",
   "type": "esriFieldTypeDouble",
   "alias": "Shape_Length",
   "domain": null
  },
  {
   "name": "Shape_Area",
   "type": "esriFieldTypeDouble",
   "alias": "Shape_Area",
   "domain": null
  }
 ],
 "capabilities": "Image,Metadata,Catalog",
 "defaultMosaicMethod": "Northwest",
 "allowedMosaicMethods": "NorthWest,Center,LockRaster,ByAttribute,Nadir,Viewpoint,Seamline,None",
 "sortField": "",
 "sortValue": null,
 "sortAscending": true,
 "mosaicOperator": "First",
 "maxDownloadSizeLimit": 2048,
 "defaultCompressionQuality": 75,
 "defaultResamplingMethod": "Bilinear",
 "maxImageHeight": 4100,
 "maxImageWidth": 15000,
 "maxRecordCount": 1000,
 "maxDownloadImageCount": 20,
 "maxMosaicImageCount": 20,
 "allowRasterFunction": true,
 "rasterFunctionInfos": [
  {
   "name": "None",
   "description": "A No-Op Function.",
   "help": ""
  }
 ],
 "rasterTypeInfos": [
  {
   "name": "Raster Dataset",
   "description": "Supports all ArcGIS Raster Datasets",
   "help": ""
  }
 ],
 "mensurationCapabilities": "None",
 "hasHistograms": true,
 "hasColormap": false,
 "hasRasterAttributeTable": false,
 "minScale": 0,
 "maxScale": 0,
 "exportTilesAllowed": false,
 "hasMultidimensions": false,
 "supportsStatistics": true,
 "supportsAdvancedQueries": true,
 "editFieldsInfo": null,
 "ownershipBasedAccessControlForRasters": null,
 "allowComputeTiePoints": false,
 "useStandardizedQueries": true,
 "advancedQueryCapabilities": {
  "useStandardizedQueries": true,
  "supportsStatistics": true,
  "supportsOrderBy": true,
  "supportsDistinct": true,
  "supportsPagination": true
 },
 "spatialReference": {
  "wkid": 103160,
  "latestWkid": 6578
 }
}
