{
 "currentVersion": 10.91,
 "serviceDescription": "Soil Moisture Image Layer: 2025-06-01, 19:16:34",
 "name": "Imagery/Soil_Moisture",
 "description": "Soil Moisture Image Layer: 2025-06-01, 19:16:34",
 "extent": {
  "xmin": -124.94000000000003,
  "ymin": 25.059999999998936,
  "xmax": -67.06999999999783,
  "ymax": 52.92999999999999,
  "spatialReference": {
   "wkid": 4326,
   "latestWkid": 4326
  }
 },
 "initialExtent": {
  "xmin": -124.94000000000003,
  "ymin": 25.059999999998936,
  "xmax": -67.06999999999783,
  "ymax": 52.92999999999999,
  "spatialReference": {
   "wkid": 4326,
   "latestWkid": 4326
  }
 },
 "fullExtent": {
  "xmin": -124.94000000000003,
  "ymin": 25.059999999998936,
  "xmax": -67.06999999999783,
  "ymax": 52.92999999999999,
  "spatialReference": {
   "wkid": 4326,
   "latestWkid": 4326
  }
 },
 "pixelSizeX": 0.030000000000001137,
 "pixelSizeY": 0.030000000000001137,
 "bandCount": 3,
 "pixelType": "U8",
 "minPixelSize": 0,
 "maxPixelSize": 0,
 "copyrightText": "",
 "serviceDataType": "esriImageServiceDataTypeRGB",
 "minValues": [
  20,
  2,
  0
 ],
 "maxValues": [
  255,
  245,
  255
 ],
 "meanValues": [
  188.80112219113204,
  145.8220875296685,
  67.96788636439364
 ],
 "stdvValues": [
  79.67693144784403,
  73.58323060992174,
  68.33775662636552
 ],
 "objectIdField": "",
 "fields": [],
 "capabilities": "Image,Metadata,Mensuration",
 "defaultMosaicMethod": "Center",
 "allowedMosaicMethods": "",
 "sortField": "",
 "sortValue": null,
 "sortAscending": true,
 "mosaicOperator": "First",
 "maxDownloadSizeLimit": 2097196,
 "defaultCompressionQuality": 75,
 "defaultResamplingMethod": "Bilinear",
 "maxImageHeight": 4100,
 "maxImageWidth": 15000,
 "allowRasterFunction": true,
 "rasterFunctionInfos": [
  {
   "name": "None",
   "description": "",
   "help": ""
  }
 ],
 "rasterTypeInfos": [
  {
   "name": "Raster Dataset",
   "description": "Supports all ArcGIS Raster Datasets",
   "help": ""
  }
 ],
 "mensurationCapabilities": "Basic",
 "hasHistograms": true,
 "hasColormap": false,
 "hasRasterAttributeTable": false,
 "minScale": 0,
 "maxScale": 0,
 "exportTilesAllowed": false,
 "hasMultidimensions": false,
 "supportsStatistics": false,
 "supportsAdvancedQueries": false,
 "editFieldsInfo": null,
 "ownershipBasedAccessControlForRasters": null,
 "allowComputeTiePoints": false,
 "useStandardizedQueries": true,
 "advancedQueryCapabilities": {
  "useStandardizedQueries": true,
  "supportsStatistics": false,
  "supportsOrderBy": false,
  "supportsDistinct": false,
  "supportsPagination": false
 },
 "spatialReference": {
  "wkid": 4326,
  "latestWkid": 4326
 }
}
