View In:
ArcGIS JavaScript
ArcGIS Online Map Viewer
ArcGIS Earth
ArcMap
View Footprint In:
ArcGIS Online Map Viewer
Service Description: NMSL Design Imagery 6inch Imagery 1) Photography Dates: 11/27/2023
2) Photography Scale: 1:1200
3) Flying Height: 8160 feet AMT (Above Mean Terrain)
4) Raw Image Post Processed Resolution: .8 microns
5) Ortho TIFF Pixel Resolution: 0.5' (6 inch)
6) Ortho TIFF Format: GeoTiff, uncompressed 8 bit RGB data, no overviews
7) Number of Orthophotos: 86 with .tfw files
8) Ortho TIFF image sheets are edge matched with identical overlap inside the AOI.
9) Ortho TIFF void areas are black (255,255,255)
10) JPEG2000 Image Compression: 12:1
11) ECW Image Compression: 12:1
12) Horizontal Datum: NAD83 2011 (epoch 2010) with project coordinates in Texas State Plane - Central zones
13) Photography: Color
Name: Imagery/NMSL_Design_WM
Description: NMSL Design Imagery 6inch Imagery 1) Photography Dates: 11/27/2023
2) Photography Scale: 1:1200
3) Flying Height: 8160 feet AMT (Above Mean Terrain)
4) Raw Image Post Processed Resolution: .8 microns
5) Ortho TIFF Pixel Resolution: 0.5' (6 inch)
6) Ortho TIFF Format: GeoTiff, uncompressed 8 bit RGB data, no overviews
7) Number of Orthophotos: 86 with .tfw files
8) Ortho TIFF image sheets are edge matched with identical overlap inside the AOI.
9) Ortho TIFF void areas are black (255,255,255)
10) JPEG2000 Image Compression: 12:1
11) ECW Image Compression: 12:1
12) Horizontal Datum: NAD83 2011 (epoch 2010) with project coordinates in Texas State Plane - Central zones
13) Photography: Color
Single Fused Map Cache: false
Extent:
XMin: -1.1448812976E7
YMin: 3652310.250456248
XMax: -1.137891156975E7
YMax: 3692392.652799998
Spatial Reference: 102100
(3857)
Initial Extent:
XMin: -1.1448812976E7
YMin: 3652310.250456248
XMax: -1.137891156975E7
YMax: 3692392.652799998
Spatial Reference: 102100
(3857)
Full Extent:
XMin: -1.1448812976E7
YMin: 3652310.250456248
XMax: -1.137891156975E7
YMax: 3692392.652799998
Spatial Reference: 102100
(3857)
Pixel Size X: 0.25390625
Pixel Size Y: 0.25390625
Band Count: 4
Pixel Type: U8
RasterFunction Infos: {"rasterFunctionInfos": [{
"name": "None",
"description": "A No-Op Function.",
"help": ""
}]}
Mensuration Capabilities: None
Has Histograms: true
Has Colormap: false
Has Multi Dimensions : false
Rendering Rule:
Min Scale: 0
Max Scale: 0
Copyright Text: LCRA TSC, NV5
Service Data Type: esriImageServiceDataTypeGeneric
Min Values: 0, 0, 0, 0
Max Values: 255, 255, 255, 255
Mean Values: 117.00652410118238, 109.61612868653032, 105.77053399002754, 254.9786748960649
Standard Deviation Values: 41.755042883901325, 38.21997160958719, 35.30118164291202, 1.2795137975814983
Object ID Field: OBJECTID
Fields:
-
OBJECTID
(
type: esriFieldTypeOID, alias: OBJECTID
)
-
Shape
(
type: esriFieldTypeGeometry, alias: Shape
)
-
Name
(
type: esriFieldTypeString, alias: Name, length: 200
)
-
MinPS
(
type: esriFieldTypeDouble, alias: MinPS
)
-
MaxPS
(
type: esriFieldTypeDouble, alias: MaxPS
)
-
LowPS
(
type: esriFieldTypeDouble, alias: LowPS
)
-
HighPS
(
type: esriFieldTypeDouble, alias: HighPS
)
-
Category
(
type: esriFieldTypeInteger, alias: Category
, Coded Values:
[0: Unknown]
, [1: Primary]
, [2: Overview]
, ...6 more...
)
-
Tag
(
type: esriFieldTypeString, alias: Tag, length: 100
)
-
GroupName
(
type: esriFieldTypeString, alias: GroupName, length: 100
)
-
ProductName
(
type: esriFieldTypeString, alias: ProductName, length: 100
)
-
CenterX
(
type: esriFieldTypeDouble, alias: CenterX
)
-
CenterY
(
type: esriFieldTypeDouble, alias: CenterY
)
-
ZOrder
(
type: esriFieldTypeInteger, alias: ZOrder
)
-
Shape_Length
(
type: esriFieldTypeDouble, alias: Shape_Length
)
-
Shape_Area
(
type: esriFieldTypeDouble, alias: Shape_Area
)
Default Mosaic Method: Northwest
Allowed Mosaic Methods: NorthWest,Center,LockRaster,ByAttribute,Nadir,Viewpoint,Seamline,None
SortField:
SortValue: null
Mosaic Operator: First
Default Compression Quality: 75
Default Resampling Method: Bilinear
Max Record Count: 1000
Max Image Height: 4100
Max Image Width: 15000
Max Download Image Count: 20
Max Mosaic Image Count: 20
Allow Raster Function: true
Allow Copy: null
Allow Analysis: null
Allow Compute TiePoints: false
Supports Statistics: true
Supports Advanced Queries: true
Use StandardizedQueries: true
Raster Type Infos:
Name: Raster Dataset
Description: Supports all ArcGIS Raster Datasets
Help:
Has Raster Attribute Table: false
Edit Fields Info: null
Ownership Based AccessControl For Rasters: null
Child Resources:
Info
Histograms
Key Properties
Legend
Raster Function Infos
Supported Operations:
Export Image
Query
Identify
Compute Histograms
Compute Statistics Histograms
Get Samples
Compute Class Statistics
Query Boundary
Compute Pixel Location
Compute Angles
Validate
Project