View In:
ArcGIS JavaScript
ArcGIS Online Map Viewer
ArcGIS Earth
ArcMap
View Footprint In:
ArcGIS Online Map Viewer
Service Description: North McCamey to Bearkat NMBKT 6 inch resolution imagery from NV5 Geospatial.
Name: Imagery/NMBKT_JP2_SPC
Description: North McCamey to Bearkat NMBKT 6 inch resolution imagery from NV5 Geospatial.
Single Fused Map Cache: false
Extent:
XMin: 1681438.5001010597
YMin: 1.0379551500023142E7
XMax: 1943225.0001010597
YMax: 1.0629710000023142E7
Spatial Reference: 103160
(6578)
Initial Extent:
XMin: 1681438.5001010597
YMin: 1.0379551500023142E7
XMax: 1943225.0001010597
YMax: 1.0629710000023142E7
Spatial Reference: 103160
(6578)
Full Extent:
XMin: 1681438.5001010597
YMin: 1.0379551500023142E7
XMax: 1943225.0001010597
YMax: 1.0629710000023142E7
Spatial Reference: 103160
(6578)
Pixel Size X: 0.5
Pixel Size Y: 0.5
Band Count: 3
Pixel Type: U8
RasterFunction Infos: {"rasterFunctionInfos": [{
"name": "None",
"description": "",
"help": ""
}]}
Mensuration Capabilities: Basic
Has Histograms: false
Has Colormap: false
Has Multi Dimensions : false
Rendering Rule:
Min Scale: 0
Max Scale: 0
Copyright Text: LCRA, NV5
Service Data Type: esriImageServiceDataTypeRGB
Min Values: N/A
Max Values: N/A
Mean Values: N/A
Standard Deviation Values: N/A
Object ID Field:
Fields:
None
Default Mosaic Method: Center
Allowed Mosaic Methods:
SortField:
SortValue: null
Mosaic Operator: First
Default Compression Quality: 75
Default Resampling Method: Bilinear
Max Record Count: null
Max Image Height: 4100
Max Image Width: 15000
Max Download Image Count: null
Max Mosaic Image Count: null
Allow Raster Function: true
Allow Copy: null
Allow Analysis: null
Allow Compute TiePoints: false
Supports Statistics: false
Supports Advanced Queries: false
Use StandardizedQueries: true
Raster Type Infos:
Name: Raster Dataset
Description: Supports all ArcGIS Raster Datasets
Help:
Has Raster Attribute Table: false
Edit Fields Info: null
Ownership Based AccessControl For Rasters: null
Child Resources:
Info
Key Properties
Legend
Raster Function Infos
Supported Operations:
Export Image
Identify
Measure
Compute Histograms
Compute Statistics Histograms
Get Samples
Compute Class Statistics
Query Boundary
Compute Pixel Location
Compute Angles
Validate
Project