View In:
ArcGIS JavaScript
ArcGIS Online Map Viewer
ArcGIS Earth
ArcMap
View Footprint In:
ArcGIS Online Map Viewer
Service Description: Soil Moisture Image Layer: 2025-05-30, 19:16:28
Name: Imagery/Soil_Moisture
Description: Soil Moisture Image Layer: 2025-05-30, 19:16:28
Single Fused Map Cache: false
Extent:
XMin: -124.94000000000003
YMin: 25.059999999998936
XMax: -67.06999999999783
YMax: 52.92999999999999
Spatial Reference: 4326
(4326)
Initial Extent:
XMin: -124.94000000000003
YMin: 25.059999999998936
XMax: -67.06999999999783
YMax: 52.92999999999999
Spatial Reference: 4326
(4326)
Full Extent:
XMin: -124.94000000000003
YMin: 25.059999999998936
XMax: -67.06999999999783
YMax: 52.92999999999999
Spatial Reference: 4326
(4326)
Pixel Size X: 0.030000000000001137
Pixel Size Y: 0.030000000000001137
Band Count: 3
Pixel Type: U8
RasterFunction Infos: {"rasterFunctionInfos": [{
"name": "None",
"description": "",
"help": ""
}]}
Mensuration Capabilities: Basic
Has Histograms: true
Has Colormap: false
Has Multi Dimensions : false
Rendering Rule:
Min Scale: 0
Max Scale: 0
Copyright Text:
Service Data Type: esriImageServiceDataTypeRGB
Min Values: 20, 2, 0
Max Values: 255, 245, 255
Mean Values: 186.0001495531615, 150.8310057023923, 67.28405337110648
Standard Deviation Values: 82.46511772871382, 70.51231613774948, 64.6411591519605
Object ID Field:
Fields:
None
Default Mosaic Method: Center
Allowed Mosaic Methods:
SortField:
SortValue: null
Mosaic Operator: First
Default Compression Quality: 75
Default Resampling Method: Bilinear
Max Record Count: null
Max Image Height: 4100
Max Image Width: 15000
Max Download Image Count: null
Max Mosaic Image Count: null
Allow Raster Function: true
Allow Copy: null
Allow Analysis: null
Allow Compute TiePoints: false
Supports Statistics: false
Supports Advanced Queries: false
Use StandardizedQueries: true
Raster Type Infos:
Name: Raster Dataset
Description: Supports all ArcGIS Raster Datasets
Help:
Has Raster Attribute Table: false
Edit Fields Info: null
Ownership Based AccessControl For Rasters: null
Child Resources:
Info
Histograms
Key Properties
Legend
Raster Function Infos
Supported Operations:
Export Image
Identify
Measure
Compute Histograms
Compute Statistics Histograms
Get Samples
Compute Class Statistics
Query Boundary
Compute Pixel Location
Compute Angles
Validate
Project